BEGIN:VCALENDAR
VERSION:2.0
PRODID:icalendar-ruby
CALSCALE:GREGORIAN
METHOD:PUBLISH
BEGIN:VEVENT
DTSTAMP:20260422T023225Z
UID:91-710013@stgeorgesmoncton.ca
DTSTART:20211103T200000Z
DTEND:20211103T210000Z
CLASS:PUBLIC
CREATED:20230401T120608
DESCRIPTION: Mondays through Saturdays the Daily Offices of Morning and Eve
 ning Prayer are offered in the Chapel at 8:30 a.m. and 5:00 p.m.\nWatch us
  Live here every day except Saturday.
LAST-MODIFIED:20230401T120608
LOCATION:
SUMMARY:Evening Prayer
URL;VALUE=URI:https://stgeorgesmoncton.com/events/evening-prayer--91/2021-1
 1-03
ATTACH;FILENAME=IMG_9512_BW.png;FMTTYPE=image/png:https://dq5pwpg1q8ru0.clo
 udfront.net/2021/06/14/15/36/48/619f96d7-3630-47ff-9d78-8d2e4fa65e95/IMG_9
 512_BW.png
END:VEVENT
END:VCALENDAR
